Workbook
Name Aceptar: '8 MAPA RIESGOS'!$AO$20:$AO$20
Name Afectación_Económica: '3 PROBABIL E IMPACTO INHERENTE'!$Y$12:$Y$17
Name Desc_Ejecucion_y_administracion_de_procesos: LISTAS_GUIA7!$F$2:$F$10
Name Desc_Evento_externo: LISTAS_GUIA7!$K$2:$K$5
Name Desc_Infraestructura: LISTAS_GUIA7!$J$2:$J$5
Name Desc_Talento_humano: LISTAS_GUIA7!$H$2:$H$6
Name Desc_Tecnologia: LISTAS_GUIA7!$I$2:$I$6
Name Desc_Transaccion_u_Operacion_aplica_para_LA_FT_FP: LISTAS_GUIA7!$G$2:$G$5
Name Documentacion_Control: LISTAS_GUIA7!$L$2:$L$3
Name E_Relaciones_Laborales: '11 FORMULAS'!$C$12:$C$17
Name Ejecución_administración_de_procesos: LISTAS_GUIA7!$F$2:$F$10
Name Evento_externo: LISTAS_GUIA7!$K$2:$K$5
Name F_Usuarios_Productos_y_Prácticas_Organizacionales: '11 FORMULAS'!$C$18:$C$23
Name Fiscal: '11 FORMULAS'!$B$32:$B$35
Name G_Daños_Activos_Físicos: '11 FORMULAS'!$C$24:$C$26
Name Gestión: '11 FORMULAS'!$A$32:$A$34
Name IMPACTO_PROCESOS: '[1]LISTAS FORMULAS'!$C$3:$C$7
Name IMPACTO_PROCESOS: '[1]LISTAS FORMULAS'!$C$3:$C$7
Name IMPACTO_PROCESOS: '[1]LISTAS FORMULAS'!$C$3:$C$7
Name IMPACTO_PROCESOS: '[1]LISTAS FORMULAS'!$C$3:$C$7
Name IMPACTO_PROCESOS: '[1]LISTAS FORMULAS'!$C$3:$C$7
Name IMPACTO_PROCESOS: '[1]LISTAS FORMULAS'!$C$3:$C$7
Name Infraestructura: LISTAS_GUIA7!$J$2:$J$5
Name Integridad_Pública_Corrupción: '11 FORMULAS'!$D$32:$D$34
Name Integridad_Pública_LA_FT_FP: '11 FORMULAS'!$E$32:$E$34
Name Lista_Documentacion_H5: LISTAS_GUIA7!$O$2:$O$4
Name Lista_Ejecucion_H5: LISTAS_GUIA7!$R$2:$R$4
Name Lista_Evidencia_H5: LISTAS_GUIA7!$Q$2:$Q$3
Name Lista_Factores: LISTAS_GUIA7!$D$2:$D$7
Name Lista_Factores_Riesgo: LISTAS_GUIA7!$D$2:$D$7
Name Lista_Frecuencia_H5: LISTAS_GUIA7!$P$2:$P$7
Name Lista_Implementacion_H5: LISTAS_GUIA7!$N$2:$N$3
Name Lista_Tipo_Control_H5: LISTAS_GUIA7!$M$2:$M$4
Name opciones: '[1]LISTAS FORMULAS'!$F$3:$F$4
Name opciones: '[1]LISTAS FORMULAS'!$F$3:$F$4
Name opciones: '[1]LISTAS FORMULAS'!$F$3:$F$4
Name opciones: '[1]LISTAS FORMULAS'!$F$3:$F$4
Name opciones: '[1]LISTAS FORMULAS'!$F$3:$F$4
Name opciones: '[1]LISTAS FORMULAS'!$F$3:$F$4
Name opciones2: '[1]LISTAS FORMULAS'!$G$3:$G$5
Name opciones2: '[1]LISTAS FORMULAS'!$G$3:$G$5
Name opciones2: '[1]LISTAS FORMULAS'!$G$3:$G$5
Name opciones2: '[1]LISTAS FORMULAS'!$G$3:$G$5
Name opciones2: '[1]LISTAS FORMULAS'!$G$3:$G$5
Name opciones2: '[1]LISTAS FORMULAS'!$G$3:$G$5
Name Quince_Cero: '[1]LISTAS FORMULAS'!$F$14:$F$15
Name Quince_Cero: '[1]LISTAS FORMULAS'!$F$14:$F$15
Name Quince_Cero: '[1]LISTAS FORMULAS'!$F$14:$F$15
Name Quince_Cero: '[1]LISTAS FORMULAS'!$F$14:$F$15
Name Quince_Cero: '[1]LISTAS FORMULAS'!$F$14:$F$15
Name Quince_Cero: '[1]LISTAS FORMULAS'!$F$14:$F$15
Name Rango_Calificacion_Ejecucion: '[1]LISTAS FORMULAS'!$H$3:$H$5
Name Rango_Calificacion_Ejecucion: '[1]LISTAS FORMULAS'!$H$3:$H$5
Name Rango_Calificacion_Ejecucion: '[1]LISTAS FORMULAS'!$H$3:$H$5
Name Rango_Calificacion_Ejecucion: '[1]LISTAS FORMULAS'!$H$3:$H$5
Name Rango_Calificacion_Ejecucion: '[1]LISTAS FORMULAS'!$H$3:$H$5
Name Rango_Calificacion_Ejecucion: '[1]LISTAS FORMULAS'!$H$3:$H$5
Name Reducir_mitigar_Transferir_Evitar: '8 MAPA RIESGOS'!$AO$17:$AO$19
Name Reputacional: '3 PROBABIL E IMPACTO INHERENTE'!$Z$12:$Z$17
Name Requiere_Plan_de_Acción: '8 MAPA RIESGOS'!$AO$17:$AO$19

Sheet 1 INSTRUCTIVO
B2: Matriz Mapa de Riesgos
B4: Con la expedición del Decreto 1499 de 2017 “Por medio del cual se modifica el Decreto 1083 de 2015, Decreto Único Reglamentario del Sector Función Pública, en lo relacionado con el Sistema de Gestión establecido en el artículo 133 de la Ley 1753 de 2015”, se crea un solo Sistema de Gestión y se alinea con el Sistema de Control Interno, hoy todas las entidades públicas requieren actualizar y/o implementar el Modelo Integrado de Planeación y Gestión MIPG, modelo que incorpora el Modelo Estándar de Control Interno MECI a través de la 7a dimensión del mismo. En este marco general, el proceso de administración del riesgo es un esfuerzo conjunto entre la Alta Dirección y los servidores en todos sus niveles, ejercicio que inicia con la formulación de la política de Administración del Riesgo, la cual incluye los niveles de responsabilidad frente al seguimiento y evaluación, aspectos que deberán definirse acorde con el Esquema de Líneas de Defensa vinculado a la Dimensión 7. Teniendo en cuenta lo anterior y dada la necesidad de las entidades frente a la estructuración de los mapas de riesgos, como herramienta fundamental frente a la gestión del riesgo, el presente formato desarrolla un esquema completo acorde con los contenidos metodológicos de la Guía para la Administración del Riesgo y el diseño de controles V5. El formato cuenta con celdas parametrizadas y permite contar con los respectivos mapas de calor para riesgo inherente y riesgo residual.
B6: Orientaciones Generales
B7: Antes de iniciar con el diligenciamiento de la información en la matriz, se requiere haber avanzado en el análisis del proceso, su objetivo, alcance, actividades clave, considere los lineamientos establecidos en el Paso 2: identificación del riesgo, donde se explica ampliamente las bases para adelantar este análisis. Así mismo, considere en el Paso 3: valoración del riesgo los lineamientos para definir el No. de veces que se hace la actividad con la cual se relaciona el riesgo y su impacto en términos económicos o reputacionales. En este mismo paso se analizan los controles que deben responder a los atributos de eficiencia e informativos.
B9: Las hojas se encuentran protegidas para evidar dañar las formulas, para desprotegerlas no se requiere contraseña
B11: Se debe ingresar información solo en las celdas identificadas con color NARANJA CLARO, las demás contienen formulas de autollenado
B13: El formato de fecha es: DD/MM/AAAA
B15: El archivo contiene las siguientes hojas:
B17: 1 INSTRUCTIVO: Identifica el contenido del archivo y su funcionalidad
B19: 2 CONTEXTO E IDENTIFICACIÓN: Se establece el Número, Descripción y Factor del riesgo
C21: Columna | E21: Descripción - Lineamientos para el diligenciamiento
C22: Proceso | E22: Diligencie el nombre del proceso al cual se le identificarán y valorarán los riesgos.
C23: Objetivo del Proceso | E23: Diligencie el objetivo del proceso.
C24: Elaboración o Actualización: | E24: Fecha en la que realiza el diligenciamiento o actualización del mapa de riesgos, formato (DD/MM/AAAA)
C25: Vigencia: | E25: Vigencia que tiene el mapa de riesgos fecha inicio fecha final, formato (DD/MM/AAAA)
C26: No. de Riesgo | E26: Permite definir unl consecutivo de riesgos. Una entidad puede ir en el riesgo 150, pero tener 70 riesgos, lo que permite llevar una traza de los riesgos. Esta información la debe administrar la oficina asesora de planeación o gerencia de riesgos. Cuando un el riesgo salga del mapa no existirá otro riesgo con el mismo número.
C27: ¿QUÉ? IMPACTO | E27: Analice las consecuencias que puede ocasionar a la organización la materialización del riesgo, Seleccione de la lista desplegable entre: Posibilidad de pérdida Económica Posibilidad de pérdida Reputacional Posibilidad de pérdida Económica y Reputacional
C28: ¿CÓMO? CAUSA INMEDIATA | E28: Circunstancias bajo las cuales se presenta el riesgo, es la situación más evidente frente al riesgo, redacte de la forma más concreta posible. (Iniciar con la palabra por)
C29: ¿PORQUÉ? CAUSA RAÍZ | E29: Causa principal o básica, corresponde a las razones por la cuales se puede presentar el riesgo, redacte de la forma más concreta posible. (Iniciar con debido a)
C30: DESCRIPCIÓN DEL RIESGO | E30: Consolida o resume los análisis sobre impacto + causa inmediata + causa raíz, permitiendo contar con una redacción clara y concreta del riesgo indentificado. Tenga en cuenta la estructura de alto nivel establecida en al guía, inicia con POSIBILIDAD DE + Impacto para la entidad (Qué) + Causa Inmediata (Cómo) + Causa Raíz (Por qué) (Se genera automáticamente)
C31: FACTOR DEL RIESGO / TIPO | E31: Seleccione de la lista desplegable entre las opiciones: A_Ejecución_y_Administración_de_procesos B_Fraude_Externo C_Fraude_Interno D_Fallas_Tecnológicas E_Relaciones_Laborales F_Usuarios_Productos_y_Prácticas_Organizacionales G_Daños_Activos_Físicos
C32: FACTOR DEL RIESGO / SELECCIONE FUENTE GENERADORA DEL EVENTO PARA TIPO E,F,G | E32: Si en TIPO seleccioneó las opiciones: E_Relaciones_Laborales F_Usuarios_Productos_y_Prácticas_Organizacionales G_Daños_Activos_Físicos Debe definir la fuente generadora de la lista desplegable
C33: RESULTADO FUENTE GENERADORA DEL EVENTO | E33: Se rellena automáticamente según lo seleccinado de FACTOR DEL RIESGO
B35: 3 PROBABIL E IMPACTO INHERENTE:
C37: Columna | E37: Descripción - Lineamientos para el diligenciamiento
C38: No. veces que realiza la actividad al año | E38: Defina el número de veces que se ejecuta la actividad durante el año, (Recuerde la probabilidad e ocurrencia del riesgo se define como el No. de veces que se pasa por el punto de riesgo en el periodo de 1 año). La matriz automáticamente hará el cálculo para el nivel de probabilidad inherente. La matriz calcula automáticamente: Frecuencia de la Actividad % Probabilidad Nivel Probabilidad
C39: Afectación Económica | E39: Selecciona de la lista desplegable el rango de afectación económica y la matriz calcula: % Nivel
C40: Reputacional | E40: Selecciona de la lista desplegable el rango de afectación reputacional y la matriz calcula: % Nivel
C41: Resultado / Porcentaje de Impacto / Nivel de Impacto | E41: Se calcula automáticamente según la información de afectación económica y reputacional
B43: 4 MAPA CALOR INHERENTE: Representación gráfica de la ubicación de cada riesgo inherente en el mapa de calor (En esta hoja no se ingresan datos)
B45: 5 VALORACIÓN DEL CONTROL: Se realiza la descripción y atributos del control, calcula automáticamente el Valor Total del Control, Probabilidad residual e Impacto Residual
C47: Columna | E47: Descripción - Lineamientos para el diligenciamiento
C48: Descripción del Control | E48: Recuerde que el control se define como la medida que permite reducir o mitigar un riesgo. Defina el control (es) que atacan la causa raíz del riesgo, considere la estructura explicada en la guía: Responsable de ejecutar el control + Acción + Complemento
C49: Tipo de control | E49: Debe seleccionar de lista desplegable entre: Preventivo Detectivo Correctivo
C50: Peso del Control | E50: Se calcula automáticamente según lo seleccionado en Tipo de Control Preventivo: 25 % Detectivo: 15 % Correctivo: 10 %
C51: Afectación o Desplazamiento en la Matriz | E51: Se calcula automáticamente según lo seleccionado en Tipo de Control Preventivo: 25 % Detectivo: 15 % Correctivo: 10 %
C52: Implementación | E52: Debe seleccionar de lista desplegable entre: Automático: 25 % Manual: 15 %
C53: Peso de la implementación | E53: Se calcula automáticamente según lo seleccionado en Implementación Manual Automático
C54: Informativos | E54: Debe seleccionar de listas desplegables Documentación: Documentado - Sin Documentar Frecuencia: Continua - Aleatoria Evidencia: Con registro - Sin registro
C55: Valor Total del Control | E55: Se calcula automáticamente: Peso del Control + Peso de la implementación
...

Sheet 2 CONTEXTO E IDENTIFICACIÓN
C1: MAPA DE RIESGOS INSTITUCIONAL | K1: CÓDIGO: PE-PYM-REG-027
K2: VERSIÓN: 01
K3: ACTUALIZACIÓN: 28-08-2026
A5: ENTIDAD: | B5: INSTITUCIÓN UNIVERSITARIA DE SAN ANRES, PROVIDENCIA Y SANTA CATALINA -IUSAI | F5: PROCESO: | G5: Todos los procesos institucionales
A6: OBJETIVO DEL PROCESO: | B6: Identificar, analizar y valorar los riesgos de gestión, fiscales, seguridad de la información, corrupción y LA/FT/FP de los 14 procesos del INFOTEP, conforme a la metodología de administración del riesgo de la Función Pública. | F6: Vigencia: 2026 | G6: Del 1 de enero 2026 Al 31 de diciembre de 2026
A8: No. de Riesgo (Mismo consecutivo para toda la entidad) | B8: PROCESO
B9: PROCESO | C9: FACTOR DE RIESGO | D9: DESCRIPTOR / FUENTE GENERADORA DEL RIESGO | E9: VALIDACIÓN FUENTE GENERADORA DEL EVENTO | F9: DESCRIPCIÓN DEL TIPO DE FACTOR DE RIESGO | G9: TIPOLOGÍA | H9: ¿QUÉ? IMPACTO | I9: ¿CÓMO? CAUSA INMEDIATA (Iniciar con la palabra por) | J9: ¿PORQUÉ? CAUSA RAÍZ (Iniciar con debido a/a causa de) | K9: DESCRIPCIÓN DEL RIESGO | L9: SUB CAUSAS (Si aplica)
A10: R1 | B10: Direccionamiento | C10: Ejecución y administración de procesos | D10: Falta de aplicación de los procedimientos | E10: Falta de aplicación de los procedimientos | F10: =IFERROR(VLOOKUP(C10,'11 FORMULAS'!$H$38:$I$43,2,FALSE()),"") -> Eventos relacionados con la ejecución de los procesos y procedimientos determinados para la operación de la entidad, uso de sistemas de información, por errores en las actividades que deben realizar los servidores de la organización. Estructura organizacional que afecta la capacidad organizacional. | G10: Gestión | H10: Posibilidad de afectación institucional y reputacional | I10: por debilidades en la formulación, seguimiento y evaluación de planes, indicadores y metas institucionales | J10: debido a falta de articulación entre dependencias, baja trazabilidad de avances y seguimiento insuficiente por parte de los responsables | K10: Posibilidad de afectación institucional y reputacional por debilidades en la formulación, seguimiento y evaluación de planes, indicadores y metas institucionales debido a falta de articulación entre dependencias, baja trazabilidad de avances y seguimiento insuficiente por parte de los responsables | L10: Proceso: Direccionamiento. Riesgo priorizado conforme a tipología Gestión. | AA10: =IF(SUBSTITUTE($C10,CHAR(10)," ")="Ejecución y administración de procesos","Desc_Ejecucion_y_administracion_de_procesos",IF(SUBSTITUTE($C10,CHAR(10)," ")="Transacción u Operación (aplica para LA/FT/FP)","Desc_Transaccion_u_Operacion_aplica_para_LA_FT_FP",IF(SUBSTITUTE($C10,CHAR(10)," ")="Talento humano","Desc_Talento_humano",IF(SUBSTITUTE($C10,CHAR(10)," ")="Tecnología","Desc_Tecnologia",IF(SUBSTITUTE($C10,CHAR(10)," ")="Infraestructura","Desc_Infraestructura",IF(SUBSTITUTE($C10,CHAR(10)," ")="Evento externo","Desc_Evento_externo","")))))) -> Desc_Ejecucion_y_administracion_de_procesos
A11: R2 | B11: Direccionamiento | C11: Talento humano | D11: Gestión inadecuada de conflicto de Intereses | E11: Gestión inadecuada de conflicto de Intereses | F11: =IFERROR(VLOOKUP(C11,'11 FORMULAS'!$H$38:$I$43,2,FALSE()),"") -> Eventos relacionados con las conductas o comportamientos de los empleados que afectan la Integridad Pública. | G11: Integridad Pùblica - Corrupción | H11: Posibilidad de pérdida reputacional y afectación a la transparencia institucional | I11: por decisiones estratégicas influenciadas por intereses particulares o conflictos de interés | J11: debido a controles insuficientes para declarar, gestionar y documentar conflictos de interés en la toma de decisiones | K11: Posibilidad de pérdida reputacional y afectación a la transparencia institucional por decisiones estratégicas influenciadas por intereses particulares o conflictos de interés debido a controles insuficientes para declarar, gestionar y documentar conflictos de interés en la toma de decisiones | L11: Proceso: Direccionamiento. Riesgo priorizado conforme a tipología Integridad Pùblica - Corrupción. | AA11: =IF(SUBSTITUTE($C11,CHAR(10)," ")="Ejecución y administración de procesos","Desc_Ejecucion_y_administracion_de_procesos",IF(SUBSTITUTE($C11,CHAR(10)," ")="Transacción u Operación (aplica para LA/FT/FP)","Desc_Transaccion_u_Operacion_aplica_para_LA_FT_FP",IF(SUBSTITUTE($C11,CHAR(10)," ")="Talento humano","Desc_Talento_humano",IF(SUBSTITUTE($C11,CHAR(10)," ")="Tecnología","Desc_Tecnologia",IF(SUBSTITUTE($C11,CHAR(10)," ")="Infraestructura","Desc_Infraestructura",IF(SUBSTITUTE($C11,CHAR(10)," ")="Evento externo","Desc_Evento_externo","")))))) -> Desc_Talento_humano
A12: R3 | B12: Direccionamiento | C12: Ejecución y administración de procesos | D12: Falta de supervisión o interventoría | E12: Falta de supervisión o interventoría | F12: =IFERROR(VLOOKUP(C12,'11 FORMULAS'!$H$38:$I$43,2,FALSE()),"") -> Eventos relacionados con la ejecución de los procesos y procedimientos determinados para la operación de la entidad, uso de sistemas de información, por errores en las actividades que deben realizar los servidores de la organización. Estructura organizacional que afecta la capacidad organizacional. | G12: Fiscal | H12: Posibilidad de afectación de recursos públicos | I12: por deficiencias en el seguimiento a la ejecución presupuestal y a los compromisos institucionales | J12: debido a controles débiles en supervisión, reporte de avances, soportes y toma oportuna de acciones correctivas | K12: Posibilidad de afectación de recursos públicos por deficiencias en el seguimiento a la ejecución presupuestal y a los compromisos institucionales debido a controles débiles en supervisión, reporte de avances, soportes y toma oportuna de acciones correctivas | L12: Proceso: Direccionamiento. Riesgo priorizado conforme a tipología Fiscal. | AA12: =IF(SUBSTITUTE($C12,CHAR(10)," ")="Ejecución y administración de procesos","Desc_Ejecucion_y_administracion_de_procesos",IF(SUBSTITUTE($C12,CHAR(10)," ")="Transacción u Operación (aplica para LA/FT/FP)","Desc_Transaccion_u_Operacion_aplica_para_LA_FT_FP",IF(SUBSTITUTE($C12,CHAR(10)," ")="Talento humano","Desc_Talento_humano",IF(SUBSTITUTE($C12,CHAR(10)," ")="Tecnología","Desc_Tecnologia",IF(SUBSTITUTE($C12,CHAR(10)," ")="Infraestructura","Desc_Infraestructura",IF(SUBSTITUTE($C12,CHAR(10)," ")="Evento externo","Desc_Evento_externo","")))))) -> Desc_Ejecucion_y_administracion_de_procesos
A13: R4 | B13: Académica | C13: Ejecución y administración de procesos | D13: Falta de aplicación de los procedimientos | E13: Falta de aplicación de los procedimientos | F13: =IFERROR(VLOOKUP(C13,'11 FORMULAS'!$H$38:$I$43,2,FALSE()),"") -> Eventos relacionados con la ejecución de los procesos y procedimientos determinados para la operación de la entidad, uso de sistemas de información, por errores en las actividades que deben realizar los servidores de la organización. Estructura organizacional que afecta la capacidad organizacional. | G13: Gestión | H13: Posibilidad de afectación académica y reputacional | I13: por inconsistencias en matrícula, programación académica, registro de notas, homologaciones o trámites académicos | J13: debido a debilidades en aplicación de procedimientos, revisión de soportes y seguimiento de actividades académicas | K13: Posibilidad de afectación académica y reputacional por inconsistencias en matrícula, programación académica, registro de notas, homologaciones o trámites académicos debido a debilidades en aplicación de procedimientos, revisión de soportes y seguimiento de actividades académicas | L13: Proceso: Académica. Riesgo priorizado conforme a tipología Gestión. | AA13: =IF(SUBSTITUTE($C13,CHAR(10)," ")="Ejecución y administración de procesos","Desc_Ejecucion_y_administracion_de_procesos",IF(SUBSTITUTE($C13,CHAR(10)," ")="Transacción u Operación (aplica para LA/FT/FP)","Desc_Transaccion_u_Operacion_aplica_para_LA_FT_FP",IF(SUBSTITUTE($C13,CHAR(10)," ")="Talento humano","Desc_Talento_humano",IF(SUBSTITUTE($C13,CHAR(10)," ")="Tecnología","Desc_Tecnologia",IF(SUBSTITUTE($C13,CHAR(10)," ")="Infraestructura","Desc_Infraestructura",IF(SUBSTITUTE($C13,CHAR(10)," ")="Evento externo","Desc_Evento_externo","")))))) -> Desc_Ejecucion_y_administracion_de_procesos
A14: R5 | B14: Académica | C14: Talento humano | D14: Gestión inadecuada de conflicto de Intereses | E14: Gestión inadecuada de conflicto de Intereses | F14: =IFERROR(VLOOKUP(C14,'11 FORMULAS'!$H$38:$I$43,2,FALSE()),"") -> Eventos relacionados con las conductas o comportamientos de los empleados que afectan la Integridad Pública. | G14: Integridad Pùblica - Corrupción | H14: Posibilidad de favorecimiento indebido en decisiones académicas | I14: por manipulación o trato preferente en trámites, evaluaciones, calificaciones u homologaciones | J14: debido a baja segregación de funciones, controles insuficientes y falta de trazabilidad en aprobaciones académicas | K14: Posibilidad de favorecimiento indebido en decisiones académicas por manipulación o trato preferente en trámites, evaluaciones, calificaciones u homologaciones debido a baja segregación de funciones, controles insuficientes y falta de trazabilidad en aprobaciones académicas | L14: Proceso: Académica. Riesgo priorizado conforme a tipología Integridad Pùblica - Corrupción. | AA14: =IF(SUBSTITUTE($C14,CHAR(10)," ")="Ejecución y administración de procesos","Desc_Ejecucion_y_administracion_de_procesos",IF(SUBSTITUTE($C14,CHAR(10)," ")="Transacción u Operación (aplica para LA/FT/FP)","Desc_Transaccion_u_Operacion_aplica_para_LA_FT_FP",IF(SUBSTITUTE($C14,CHAR(10)," ")="Talento humano","Desc_Talento_humano",IF(SUBSTITUTE($C14,CHAR(10)," ")="Tecnología","Desc_Tecnologia",IF(SUBSTITUTE($C14,CHAR(10)," ")="Infraestructura","Desc_Infraestructura",IF(SUBSTITUTE($C14,CHAR(10)," ")="Evento externo","Desc_Evento_externo","")))))) -> Desc_Talento_humano
A15: R6 | B15: Académica | C15: Tecnología | D15: Caída de sistemas de información y aplicaciones | E15: Caída de sistemas de información y aplicaciones | F15: =IFERROR(VLOOKUP(C15,'11 FORMULAS'!$H$38:$I$43,2,FALSE()),"") -> Eventos relacionados con la infraestructura tecnológica de la entidad. | G15: Seg. de la Información | H15: Posibilidad de pérdida, alteración o indisponibilidad de información académica | I15: por fallas o accesos no autorizados en plataformas académicas, bases de datos estudiantiles o sistemas de registro | J15: debido a controles insuficientes de acceso, respaldo, perfiles de usuario y monitoreo tecnológico | K15: Posibilidad de pérdida, alteración o indisponibilidad de información académica por fallas o accesos no autorizados en plataformas académicas, bases de datos estudiantiles o sistemas de registro debido a controles insuficientes de acceso, respaldo, perfiles de usuario y monitoreo tecnológico | L15: Proceso: Académica. Riesgo priorizado conforme a tipología Seg. de la Información. | AA15: =IF(SUBSTITUTE($C15,CHAR(10)," ")="Ejecución y administración de procesos","Desc_Ejecucion_y_administracion_de_procesos",IF(SUBSTITUTE($C15,CHAR(10)," ")="Transacción u Operación (aplica para LA/FT/FP)","Desc_Transaccion_u_Operacion_aplica_para_LA_FT_FP",IF(SUBSTITUTE($C15,CHAR(10)," ")="Talento humano","Desc_Talento_humano",IF(SUBSTITUTE($C15,CHAR(10)," ")="Tecnología","Desc_Tecnologia",IF(SUBSTITUTE($C15,CHAR(10)," ")="Infraestructura","Desc_Infraestructura",IF(SUBSTITUTE($C15,CHAR(10)," ")="Evento externo","Desc_Evento_externo","")))))) -> Desc_Tecnologia
A16: R7 | B16: Talento Humano | C16: Ejecución y administración de procesos | D16: Errores en cálculos para pagos internos y externos | E16: Errores en cálculos para pagos internos y externos | F16: =IFERROR(VLOOKUP(C16,'11 FORMULAS'!$H$38:$I$43,2,FALSE()),"") -> Eventos relacionados con la ejecución de los procesos y procedimientos determinados para la operación de la entidad, uso de sistemas de información, por errores en las actividades que deben realizar los servidores de la organización. Estructura organizacional que afecta la capacidad organizacional. | G16: Gestión | H16: Posibilidad de afectación administrativa y operativa | I16: por inconsistencias en vinculación, novedades, liquidaciones, seguridad social o información laboral | J16: debido a errores de registro, falta de revisión cruzada y aplicación incompleta de procedimientos de talento humano | K16: Posibilidad de afectación administrativa y operativa por inconsistencias en vinculación, novedades, liquidaciones, seguridad social o información laboral debido a errores de registro, falta de revisión cruzada y aplicación incompleta de procedimientos de talento humano | L16: Proceso: Talento Humano. Riesgo priorizado conforme a tipología Gestión. | AA16: =IF(SUBSTITUTE($C16,CHAR(10)," ")="Ejecución y administración de procesos","Desc_Ejecucion_y_administracion_de_procesos",IF(SUBSTITUTE($C16,CHAR(10)," ")="Transacción u Operación (aplica para LA/FT/FP)","Desc_Transaccion_u_Operacion_aplica_para_LA_FT_FP",IF(SUBSTITUTE($C16,CHAR(10)," ")="Talento humano","Desc_Talento_humano",IF(SUBSTITUTE($C16,CHAR(10)," ")="Tecnología","Desc_Tecnologia",IF(SUBSTITUTE($C16,CHAR(10)," ")="Infraestructura","Desc_Infraestructura",IF(SUBSTITUTE($C16,CHAR(10)," ")="Evento externo","Desc_Evento_externo","")))))) -> Desc_Ejecucion_y_administracion_de_procesos
A17: R8 | B17: Talento Humano | C17: Talento humano | D17: Gestión inadecuada de conflicto de Intereses | E17: Gestión inadecuada de conflicto de Intereses | F17: =IFERROR(VLOOKUP(C17,'11 FORMULAS'!$H$38:$I$43,2,FALSE()),"") -> Eventos relacionados con las conductas o comportamientos de los empleados que afectan la Integridad Pública. | G17: Integridad Pùblica - Corrupción | H17: Posibilidad de favorecimiento indebido en vinculación, contratación o permanencia de personal | I17: por manipulación de requisitos, evaluaciones, hojas de vida o decisiones de personal | J17: debido a controles insuficientes, baja trazabilidad y debilidades en la gestión de conflictos de interés | K17: Posibilidad de favorecimiento indebido en vinculación, contratación o permanencia de personal por manipulación de requisitos, evaluaciones, hojas de vida o decisiones de personal debido a controles insuficientes, baja trazabilidad y debilidades en la gestión de conflictos de interés | L17: Proceso: Talento Humano. Riesgo priorizado conforme a tipología Integridad Pùblica - Corrupción. | AA17: =IF(SUBSTITUTE($C17,CHAR(10)," ")="Ejecución y administración de procesos","Desc_Ejecucion_y_administracion_de_procesos",IF(SUBSTITUTE($C17,CHAR(10)," ")="Transacción u Operación (aplica para LA/FT/FP)","Desc_Transaccion_u_Operacion_aplica_para_LA_FT_FP",IF(SUBSTITUTE($C17,CHAR(10)," ")="Talento humano","Desc_Talento_humano",IF(SUBSTITUTE($C17,CHAR(10)," ")="Tecnología","Desc_Tecnologia",IF(SUBSTITUTE($C17,CHAR(10)," ")="Infraestructura","Desc_Infraestructura",IF(SUBSTITUTE($C17,CHAR(10)," ")="Evento externo","Desc_Evento_externo","")))))) -> Desc_Talento_humano
A18: R9 | B18: Talento Humano | C18: Ejecución y administración de procesos | D18: Errores en cálculos para pagos internos y externos | E18: Errores en cálculos para pagos internos y externos | F18: =IFERROR(VLOOKUP(C18,'11 FORMULAS'!$H$38:$I$43,2,FALSE()),"") -> Eventos relacionados con la ejecución de los procesos y procedimientos determinados para la operación de la entidad, uso de sistemas de información, por errores en las actividades que deben realizar los servidores de la organización. Estructura organizacional que afecta la capacidad organizacional. | G18: Fiscal | H18: Posibilidad de afectación de recursos públicos | I18: por pagos indebidos o mayores valores en nómina, prestaciones, seguridad social u honorarios | J18: debido a validaciones insuficientes de novedades, liquidaciones, soportes y autorizaciones de pago | K18: Posibilidad de afectación de recursos públicos por pagos indebidos o mayores valores en nómina, prestaciones, seguridad social u honorarios debido a validaciones insuficientes de novedades, liquidaciones, soportes y autorizaciones de pago | L18: Proceso: Talento Humano. Riesgo priorizado conforme a tipología Fiscal. | AA18: =IF(SUBSTITUTE($C18,CHAR(10)," ")="Ejecución y administración de procesos","Desc_Ejecucion_y_administracion_de_procesos",IF(SUBSTITUTE($C18,CHAR(10)," ")="Transacción u Operación (aplica para LA/FT/FP)","Desc_Transaccion_u_Operacion_aplica_para_LA_FT_FP",IF(SUBSTITUTE($C18,CHAR(10)," ")="Talento humano","Desc_Talento_humano",IF(SUBSTITUTE($C18,CHAR(10)," ")="Tecnología","Desc_Tecnologia",IF(SUBSTITUTE($C18,CHAR(10)," ")="Infraestructura","Desc_Infraestructura",IF(SUBSTITUTE($C18,CHAR(10)," ")="Evento externo","Desc_Evento_externo","")))))) -> Desc_Ejecucion_y_administracion_de_procesos
A19: R10 | B19: Talento Humano | C19: Tecnología | D19: Caída de sistemas de información y aplicaciones | E19: Caída de sistemas de información y aplicaciones | F19: =IFERROR(VLOOKUP(C19,'11 FORMULAS'!$H$38:$I$43,2,FALSE()),"") -> Eventos relacionados con la infraestructura tecnológica de la entidad. | G19: Seg. de la Información | H19: Posibilidad de pérdida de confidencialidad de datos personales y laborales | I19: por acceso, divulgación o custodia inadecuada de historias laborales, nómina y datos sensibles | J19: debido a controles insuficientes de acceso, archivo, permisos y tratamiento de información reservada | K19: Posibilidad de pérdida de confidencialidad de datos personales y laborales por acceso, divulgación o custodia inadecuada de historias laborales, nómina y datos sensibles debido a controles insuficientes de acceso, archivo, permisos y tratamiento de información reservada | L19: Proceso: Talento Humano. Riesgo priorizado conforme a tipología Seg. de la Información. | AA19: =IF(SUBSTITUTE($C19,CHAR(10)," ")="Ejecución y administración de procesos","Desc_Ejecucion_y_administracion_de_procesos",IF(SUBSTITUTE($C19,CHAR(10)," ")="Transacción u Operación (aplica para LA/FT/FP)","Desc_Transaccion_u_Operacion_aplica_para_LA_FT_FP",IF(SUBSTITUTE($C19,CHAR(10)," ")="Talento humano","Desc_Talento_humano",IF(SUBSTITUTE($C19,CHAR(10)," ")="Tecnología","Desc_Tecnologia",IF(SUBSTITUTE($C19,CHAR(10)," ")="Infraestructura","Desc_Infraestructura",IF(SUBSTITUTE($C19,CHAR(10)," ")="Evento externo","Desc_Evento_externo","")))))) -> Desc_Tecnologia
A20: R11 | B20: Bienestar | C20: Ejecución y administración de procesos | D20: Falta de aplicación de los procedimientos | E20: Falta de aplicación de los procedimientos | F20: =IFERROR(VLOOKUP(C20,'11 FORMULAS'!$H$38:$I$43,2,FALSE()),"") -> Eventos relacionados con la ejecución de los procesos y procedimientos determinados para la operación de la entidad, uso de sistemas de información, por errores en las actividades que deben realizar los servidores de la organización. Estructura organizacional que afecta la capacidad organizacional. | G20: Gestión | H20: Posibilidad de afectación en la prestación de programas de bienestar | I20: por incumplimiento o ejecución parcial de las actividades programadas | J20: debilidades en la planeación, seguimiento y disponibilidad de recursos | K20: Posibilidad de afectación en la prestación de programas de bienestar por incumplimiento o ejecución parcial de las actividades programadas, a causa de debilidades en la planeación, seguimiento y disponibilidad de recursos. | L20: Proceso: Bienestar. Riesgo priorizado conforme a tipología Gestión. | AA20: =IF(SUBSTITUTE($C20,CHAR(10)," ")="Ejecución y administración de procesos","Desc_Ejecucion_y_administracion_de_procesos",IF(SUBSTITUTE($C20,CHAR(10)," ")="Transacción u Operación (aplica para LA/FT/FP)","Desc_Transaccion_u_Operacion_aplica_para_LA_FT_FP",IF(SUBSTITUTE($C20,CHAR(10)," ")="Talento humano","Desc_Talento_humano",IF(SUBSTITUTE($C20,CHAR(10)," ")="Tecnología","Desc_Tecnologia",IF(SUBSTITUTE($C20,CHAR(10)," ")="Infraestructura","Desc_Infraestructura",IF(SUBSTITUTE($C20,CHAR(10)," ")="Evento externo","Desc_Evento_externo","")))))) -> Desc_Ejecucion_y_administracion_de_procesos
A21: R12 | B21: Bienestar | C21: Ejecución y administración de procesos | D21: Falta de supervisión o interventoría | E21: Falta de supervisión o interventoría | F21: =IFERROR(VLOOKUP(C21,'11 FORMULAS'!$H$38:$I$43,2,FALSE()),"") -> Eventos relacionados con la ejecución de los procesos y procedimientos determinados para la operación de la entidad, uso de sistemas de información, por errores en las actividades que deben realizar los servidores de la organización. Estructura organizacional que afecta la capacidad organizacional. | G21: Fiscal | H21: Posibilidad de uso inadecuado de recursos destinados a bienestar institucional | I21: por entrega de apoyos, contratación de actividades o pagos sin soportes suficientes | J21: debido a debilidades en supervisión, verificación de beneficiarios, evidencias de ejecución y control presupuestal | K21: Posibilidad de uso inadecuado de recursos destinados a bienestar universitario por entrega de apoyos, contratación de actividades o pagos sin soportes suficientes debido a debilidades en supervisión, verificación de beneficiarios, evidencias de ejecución y control presupuestal | L21: Proceso: Bienestar. Riesgo priorizado conforme a tipología Fiscal. | AA21: =IF(SUBSTITUTE($C21,CHAR(10)," ")="Ejecución y administración de procesos","Desc_Ejecucion_y_administracion_de_procesos",IF(SUBSTITUTE($C21,CHAR(10)," ")="Transacción u Operación (aplica para LA/FT/FP)","Desc_Transaccion_u_Operacion_aplica_para_LA_FT_FP",IF(SUBSTITUTE($C21,CHAR(10)," ")="Talento humano","Desc_Talento_humano",IF(SUBSTITUTE($C21,CHAR(10)," ")="Tecnología","Desc_Tecnologia",IF(SUBSTITUTE($C21,CHAR(10)," ")="Infraestructura","Desc_Infraestructura",IF(SUBSTITUTE($C21,CHAR(10)," ")="Evento externo","Desc_Evento_externo","")))))) -> Desc_Ejecucion_y_administracion_de_procesos
... A54: R45 | B54: Control y Evaluación | C54: Ejecución y administración de procesos | D54: Falta de supervisión o interventoría | E54: Falta de supervisión o interventoría | F54: =IFERROR(VLOOKUP(C54,'11 FORMULAS'!$H$38:$I$43,2,FALSE()),"") -> Eventos relacionados con la ejecución de los procesos y procedimientos determinados para la operación de la entidad, uso de sistemas de información, por errores en las actividades que deben realizar los servidores de la organización. Estructura organizacional que afecta la capacidad organizacional. | G54: Fiscal | H54: Posibilidad de no identificar oportunamente riesgos fiscales o desviaciones en el uso de recursos | I54: por debilidades en auditoría, seguimiento de hallazgos y verificación de acciones correctivas | J54: debido a priorización insuficiente basada en riesgos, seguimiento débil a planes de mejoramiento y cobertura limitada | K54: Posibilidad de no identificar oportunamente riesgos fiscales o desviaciones en el uso de recursos por debilidades en auditoría, seguimiento de hallazgos y verificación de acciones correctivas debido a priorización insuficiente basada en riesgos, seguimiento débil a planes de mejoramiento y cobertura limitada | L54: Proceso: Control y Evaluación. Riesgo priorizado conforme a tipología Fiscal. | AA54: =IF(SUBSTITUTE($C54,CHAR(10)," ")="Ejecución y administración de procesos","Desc_Ejecucion_y_administracion_de_procesos",IF(SUBSTITUTE($C54,CHAR(10)," ")="Transacción u Operación (aplica para LA/FT/FP)","Desc_Transaccion_u_Operacion_aplica_para_LA_FT_FP",IF(SUBSTITUTE($C54,CHAR(10)," ")="Talento humano","Desc_Talento_humano",IF(SUBSTITUTE($C54,CHAR(10)," ")="Tecnología","Desc_Tecnologia",IF(SUBSTITUTE($C54,CHAR(10)," ")="Infraestructura","Desc_Infraestructura",IF(SUBSTITUTE($C54,CHAR(10)," ")="Evento externo","Desc_Evento_externo","")))))) -> Desc_Ejecucion_y_administracion_de_procesos

Sheet 11 FORMULAS
A1: Esta hoja se utiliza para realizar cálculos en las demás, en ella no se ingresan datos | E1: NO REQUIERE CLAVE PARA DESBLOQUEAR LAS HOJAS
B2: FACTOR DEL RIESGO | E2: Eficiencia | K2: Atributos formalización del control | P2: Afectación o Desplazamiento en la Matriz | S2: Tratamiento | U2: ¿QUÉ? IMPACTO | W2: Estado
A3: TIPO | B3: TIPO | C3: FACTOR DEL RIESGO | E3: Tipo de control | F3: Peso del Control | H3: Implementación | I3: Peso de la implementación | K3: Documentación | L3: Frecuencia | M3: Evidencia | N3: Ejecuión | P3: Tipo de control | Q3: Afecta | S3: Reducir | U3: Posibilidad de pérdida Económica | W3: Sin Iniciar
A4: A_Ejecución_y_Administración_de_procesos | B4: A_Ejecución_y_Administración_de_procesos | C4: Procesos | E4: Preventivo | F4: 0.25 | H4: Automático | I4: 0.25 | K4: Procedimientos | L4: Siempre que se ejecuta la actividad | M4: Con registro manual | N4: Interna | P4: Preventivo | Q4: Probabilidad | S4: Mitigar | U4: Posibilidad de pérdida Reputacional | W4: En proceso
A5: B_Fraude_Externo | E5: Detectivo | F5: 0.15 | H5: Manual | I5: 0.15 | K5: Sistemas de información | L5: Periódicamente (diario, mensual, bimestral, trimestral, semestral). | M5: Con registro electrónico | N5: Externa | P5: Detectivo | Q5: Probabilidad | S5: Transferir | U5: Posibilidad de pérdida Económica y Reputacional | W5: Cerrado
A6: C_Fraude_Interno | B6: B_Fraude_Externo | C6: Evento_Externo | E6: Correctivo | F6: 0.1 | K6: Otros Esquemas | N6: Mixta | P6: Correctivo | Q6: Impacto | S6: Aceptar | U6: Posibilidad de pérdida Reputacional y Económica
A7: D_Fallas_Tecnológicas | S7: Evitar
A8: E_Relaciones_Laborales | B8: C_Fraude_Interno | C8: Talento_Humano
A9: F_Usuarios_Productos_y_Prácticas_Organizacionales
A10: G_Daños_Activos_Físicos | B10: D_Fallas_Tecnológicas | C10: Tecnologías
B12: E_Relaciones_Laborales | C12: Procesos
A13: TIPOLOGÍA | C13: Evento_Externo
A14: Gestión | C14: Talento_Humano
A15: Fiscal | C15: Tecnologías
A16: Seg. de la Información | C16: Infraestructura
A17: Integridad Pùblica - Corrupción
A18: Integridad Pùblica - LA/FT/FP | B18: F_Usuarios_Productos_y_Prácticas_Organizacionales | C18: Procesos
C19: Evento_Externo
C20: Talento_Humano
C21: Tecnologías
C22: Infraestructura
B24: G_Daños_Activos_Físicos | C24: Infraestructura
C25: Evento_Externo
A31: Gestión | B31: Fiscal | C31: Seguridad_Información | D31: Integridad_Pública_Corrupción | E31: Integridad_Pública_LA_FT_FP
A32: Posibilidad de afectación económica | B32: Posibilidad de efecto dañoso sobre el recurso público | C32: Posibilidad de perdida de integridad | D32: Posibilidad de pérdida económica | E32: Posibilidad de pérdida económica
A33: Posibilidad de afectación reputacional | B33: Posibilidad de efecto dañoso sobre bienes de uso público | C33: Posibilidad de perdida de confidencialidad | D33: Posibilidad de pérdida reputacional | E33: Posibilidad de pérdida reputacional
A34: Posibilidad de afectación económica y reputacional | B34: Posibilidad de efecto dañoso sobre bienes de uso fiscal | C34: Posibilidad de perdida de disponibilidad | D34: Posibilidad de pérdida económica y reputacional | E34: Posibilidad de pérdida económica y reputacional
B35: Posibilidad de efecto dañoso sobre el interes patrimonial
H37: FACTOR DE RIESGO | I37: Descripción
A38: Ejecución y administración de procesos | B38: Transacción u Operación (aplica para LA/FT/FP) | C38: Talento humano | D38: Tecnología | E38: Infraestructura | F38: Evento externo | H38: Ejecución y administración de procesos | I38: Eventos relacionados con la ejecución de los procesos y procedimientos determinados para la operación de la entidad, uso de sistemas de información, por errores en las actividades que deben realizar los servidores de la organización. Estructura organizacional que afecta la capacidad organizacional.
A39: Estructura organizacional que afecta la capacidad organizacional | B39: Contrapartes de la entidad (naturales o jurídicas) | C39: Fraude Interno | D39: Daño de equipos | E39: Derrumbes | F39: Fraude Externo | H39: Transacción u Operación (aplica para LA/FT/FP) | I39: Eventos relacionados con transacciones y operaciones realizadas por un cliente o usuario, que accede o entrega un bien o servicio a la entidad, a través de los canales dispuestos y en una jurisdicción específica.
A40: Falta de aplicación de los procedimientos | B40: Productos (bienes o servicios) que oferta/requiere | C40: Soborno | D40: Caída de sistemas de información y aplicaciones | E40: Incendios | F40: Suplantación de identidad | H40: Talento humano | I40: Eventos relacionados con las conductas o comportamientos de los empleados que afectan la Integridad Pública.
A41: Falta segregación de funciones | B41: Canales utilizados para la operación | C41: Gestión inadecuada de conflicto de Intereses | D41: Caída de redes | E41: Inundaciones | F41: Asalto a la oficina | H41: Tecnología | I41: Eventos relacionados con la infraestructura tecnológica de la entidad.
A42: Errores de grabación, autorización | B42: Jurisdicciones (nacional o territorial) | C42: Corrupción | D42: Errores en hardware o software | E42: Daños a activos fijos | F42: Atentados, vandalismo, orden público | H42: Infraestructura | I42: Eventos relacionados con la infraestructura física de la entidad.
A43: Falta de supervisión o interventoría | C43: Hurto activos | D43: Errores en programas | H43: Evento externo | I43: Eventos por situaciones externas que afectan la entidad.
A44: Errores en cálculos para pagos internos y externos
A45: Alta rotación o insuficiencia de personal
A46: Acciones contrarias a las leyes o acuerdos de empleo, salud o seguridad en el trabajo
A47: Acciones contrarias a las leyes o acuerdos contractuales
A48: Falta de capacitación y otros temas relacionados con el personal
...

Sheet 3 PROBABIL E IMPACTO INHERENTE
C1: MAPA DE RIESGOS INSTITUCIONAL | Z1: CÓDIGO: PE-PYM-REG-027
Z2: VERSIÓN: 01
Z3: ACTUALIZACIÓN: 28-08-2026
A5: ENTIDAD: | B5: INSTITUCIÓN UNIVERSITARIA DE SAN ANRES, PROVIDENCIA Y SANTA CATALINA -IUSAI | F5: PROCESO: | G5: Todos los procesos institucionales
A6: OBJETIVO DEL PROCESO: | B6: Identificar, analizar y valorar los riesgos de gestión, fiscales, seguridad de la información, corrupción y LA/FT/FP de los 14 procesos del INFOTEP, conforme a la metodología de administración del riesgo de la Función Pública. | F6: Vigencia: 2026 | G6: Del 1 de enero 2026 Al 31 de diciembre de 2026
H8: IMPACTO INHERENTE
D9: PROBABILIDAD INHERENTE | H9: Afectación Económica | K9: Reputacional | N9: Resultado
A10: No. Riesgo | B10: PROCESO | C10: Riesgo | D10: No. veces que realiza la actividad al año | E10: Frecuencia de la Actividad | F10: % Probabilidad | G10: Nivel Probabilidad | H10: Afectación Económica | I10: % | J10: Nivel | K10: Reputacional | L10: % | M10: Nivel | N10: Porcentaje de Impacto | O10: Nivel de Impacto | Q10: PROBABILIDAD | W10: IMPACTO
A11: R1 | B11: Direccionamiento | C11: Posibilidad de afectación institucional y reputacional por debilidades en la formulación, seguimiento y evaluación de planes, indicadores y metas institucionales debido a falta de articulación entre dependencias, baja trazabilidad de avances y seguimiento insuficiente por parte de los responsables | D11: 5 | E11: =IF(D11="","",IF(D11<=$T$12,$R$12,IF(D11<=$T$13,$R$13,IF(D11<=$T$14,$R$14,IF(D11<=$T$15,$R$15,$R$16))))) -> La actividad que conlleva el riesgo se ejecuta de 3 a 24 veces por año | F11: =IF(E11="","",INDEX($U$12:$U$16,MATCH(E11,$R$12:$R$16,0))) -> 0.4 | G11: =IF(E11="","",INDEX($Q$12:$Q$16,MATCH(E11,$R$12:$R$16,0))) -> Baja | H11: Mayor a 10 SMLMV y Menor a 50 SMLMV | I11: =IF(OR(H11="",H11="N/A"),"",IFERROR(INDEX($X$12:$X$16,MATCH(H11,$Y$12:$Y$16,0)),"")) -> 0.4 | J11: =IF(OR(H11="",H11="N/A"),"",IFERROR(INDEX($W$12:$W$16,MATCH(H11,$Y$12:$Y$16,0)),"")) -> Menor | K11: El riesgo afecta la imagen de la entidad a nivel interno, de conocimiento general, de junta directiva y accionistas y/o proveedores. | L11: =IF(OR(K11="",K11="N/A"),"",IFERROR(INDEX($X$12:$X$16,MATCH(K11,$Z$12:$Z$16,0)),"")) -> 0.4 | M11: =IF(OR(K11="",K11="N/A"),"",IFERROR(INDEX($W$12:$W$16,MATCH(K11,$Z$12:$Z$16,0)),"")) -> Menor | N11: =IF(AND(I11="",L11=""),"",MAX(IF(I11="",0,I11),IF(L11="",0,L11))) -> 0.4 | O11: =IF(N11="","",IFERROR(INDEX($W$12:$W$16,MATCH(N11,$X$12:$X$16,0)),"")) -> Menor | Q11: Nivel | R11: Frecuencia de la Actividad | S11: Mínimo | T11: Máximo | U11: Probabilidad | W11: Nivel | X11: % Impacto | Y11: Afectación Económica | Z11: Reputacional
A12: R2 | B12: Direccionamiento | C12: Posibilidad de pérdida reputacional y afectación a la transparencia institucional por decisiones estratégicas influenciadas por intereses particulares o conflictos de interés debido a controles insuficientes para declarar, gestionar y documentar conflictos de interés en la toma de decisiones | D12: 5 | E12: =IF(D12="","",IF(D12<=$T$12,$R$12,IF(D12<=$T$13,$R$13,IF(D12<=$T$14,$R$14,IF(D12<=$T$15,$R$15,$R$16))))) -> La actividad que conlleva el riesgo se ejecuta de 3 a 24 veces por año | F12: =IF(E12="","",INDEX($U$12:$U$16,MATCH(E12,$R$12:$R$16,0))) -> 0.4 | G12: =IF(E12="","",INDEX($Q$12:$Q$16,MATCH(E12,$R$12:$R$16,0))) -> Baja | H12: Mayor a 10 SMLMV y Menor a 50 SMLMV | I12: =IF(OR(H12="",H12="N/A"),"",IFERROR(INDEX($X$12:$X$16,MATCH(H12,$Y$12:$Y$16,0)),"")) -> 0.4 | J12: =IF(OR(H12="",H12="N/A"),"",IFERROR(INDEX($W$12:$W$16,MATCH(H12,$Y$12:$Y$16,0)),"")) -> Menor | K12: El riesgo afecta la imagen de la entidad a nivel interno, de conocimiento general, de junta directiva y accionistas y/o proveedores. | L12: =IF(OR(K12="",K12="N/A"),"",IFERROR(INDEX($X$12:$X$16,MATCH(K12,$Z$12:$Z$16,0)),"")) -> 0.4 | M12: =IF(OR(K12="",K12="N/A"),"",IFERROR(INDEX($W$12:$W$16,MATCH(K12,$Z$12:$Z$16,0)),"")) -> Menor | N12: =IF(AND(I12="",L12=""),"",MAX(IF(I12="",0,I12),IF(L12="",0,L12))) -> 0.4 | O12: =IF(N12="","",IFERROR(INDEX($W$12:$W$16,MATCH(N12,$X$12:$X$16,0)),"")) -> Menor | Q12: Muy Baja | R12: La actividad que conlleva el riesgo se ejecuta como máximo 2 veces por año | S12: 0 | T12: 2 | U12: 0.2 | W12: Leve | X12: 0.2 | Y12: Afectación menor a 10 SMLMV | Z12: El riesgo afecta la imagen de algún área de la entidad.
A13: R3 | B13: Direccionamiento | C13: Posibilidad de afectación de recursos públicos por deficiencias en el seguimiento a la ejecución presupuestal y a los compromisos institucionales debido a controles débiles en supervisión, reporte de avances, soportes y toma oportuna de acciones correctivas | D13: 12 | E13: =IF(D13="","",IF(D13<=$T$12,$R$12,IF(D13<=$T$13,$R$13,IF(D13<=$T$14,$R$14,IF(D13<=$T$15,$R$15,$R$16))))) -> La actividad que conlleva el riesgo se ejecuta de 3 a 24 veces por año | F13: =IF(E13="","",INDEX($U$12:$U$16,MATCH(E13,$R$12:$R$16,0))) -> 0.4 | G13: =IF(E13="","",INDEX($Q$12:$Q$16,MATCH(E13,$R$12:$R$16,0))) -> Baja | H13: Mayor a 10 SMLMV y Menor a 50 SMLMV | I13: =IF(OR(H13="",H13="N/A"),"",IFERROR(INDEX($X$12:$X$16,MATCH(H13,$Y$12:$Y$16,0)),"")) -> 0.4 | J13: =IF(OR(H13="",H13="N/A"),"",IFERROR(INDEX($W$12:$W$16,MATCH(H13,$Y$12:$Y$16,0)),"")) -> Menor | K13: El riesgo afecta la imagen de la entidad a nivel interno, de conocimiento general, de junta directiva y accionistas y/o proveedores. | L13: =IF(OR(K13="",K13="N/A"),"",IFERROR(INDEX($X$12:$X$16,MATCH(K13,$Z$12:$Z$16,0)),"")) -> 0.4 | M13: =IF(OR(K13="",K13="N/A"),"",IFERROR(INDEX($W$12:$W$16,MATCH(K13,$Z$12:$Z$16,0)),"")) -> Menor | N13: =IF(AND(I13="",L13=""),"",MAX(IF(I13="",0,I13),IF(L13="",0,L13))) -> 0.4 | O13: =IF(N13="","",IFERROR(INDEX($W$12:$W$16,MATCH(N13,$X$12:$X$16,0)),"")) -> Menor | Q13: Baja | R13: La actividad que conlleva el riesgo se ejecuta de 3 a 24 veces por año | S13: 3 | T13: 24 | U13: 0.4 | W13: Menor | X13: 0.4 | Y13: Mayor a 10 SMLMV y Menor a 50 SMLMV | Z13: El riesgo afecta la imagen de la entidad a nivel interno, de conocimiento general, de junta directiva y accionistas y/o proveedores.
A14: R4 | B14: Académica | C14: Posibilidad de afectación académica y reputacional por inconsistencias en matrícula, programación académica, registro de notas, homologaciones o trámites académicos debido a debilidades en aplicación de procedimientos, revisión de soportes y seguimiento de actividades académicas | D14: 250 | E14: =IF(D14="","",IF(D14<=$T$12,$R$12,IF(D14<=$T$13,$R$13,IF(D14<=$T$14,$R$14,IF(D14<=$T$15,$R$15,$R$16))))) -> La actividad que conlleva el riesgo se ejecuta de 25 a 500 veces por año | F14: =IF(E14="","",INDEX($U$12:$U$16,MATCH(E14,$R$12:$R$16,0))) -> 0.6 | G14: =IF(E14="","",INDEX($Q$12:$Q$16,MATCH(E14,$R$12:$R$16,0))) -> Media | H14: Afectación menor a 10 SMLMV | I14: =IF(OR(H14="",H14="N/A"),"",IFERROR(INDEX($X$12:$X$16,MATCH(H14,$Y$12:$Y$16,0)),"")) -> 0.2 | J14: =IF(OR(H14="",H14="N/A"),"",IFERROR(INDEX($W$12:$W$16,MATCH(H14,$Y$12:$Y$16,0)),"")) -> Leve | K14: El riesgo afecta la imagen de la entidad a nivel interno, de conocimiento general, de junta directiva y accionistas y/o proveedores. | L14: =IF(OR(K14="",K14="N/A"),"",IFERROR(INDEX($X$12:$X$16,MATCH(K14,$Z$12:$Z$16,0)),"")) -> 0.4 | M14: =IF(OR(K14="",K14="N/A"),"",IFERROR(INDEX($W$12:$W$16,MATCH(K14,$Z$12:$Z$16,0)),"")) -> Menor | N14: =IF(AND(I14="",L14=""),"",MAX(IF(I14="",0,I14),IF(L14="",0,L14))) -> 0.4 | O14: =IF(N14="","",IFERROR(INDEX($W$12:$W$16,MATCH(N14,$X$12:$X$16,0)),"")) -> Menor | Q14: Media | R14: La actividad que conlleva el riesgo se ejecuta de 25 a 500 veces por año | S14: 25 | T14: 500 | U14: 0.6 | W14: Moderado | X14: 0.6 | Y14: Mayor a 50 SMLMV y Menor a 100 SMLMV | Z14: El riesgo afecta la imagen de la entidad con algunos usuarios de relevancia frente al logro de los objetivos.
A15: R5 | B15: Académica | C15: Posibilidad de favorecimiento indebido en decisiones académicas por manipulación o trato preferente en trámites, evaluaciones, calificaciones u homologaciones debido a baja segregación de funciones, controles insuficientes y falta de trazabilidad en aprobaciones académicas | D15: 250 | E15: =IF(D15="","",IF(D15<=$T$12,$R$12,IF(D15<=$T$13,$R$13,IF(D15<=$T$14,$R$14,IF(D15<=$T$15,$R$15,$R$16))))) -> La actividad que conlleva el riesgo se ejecuta de 25 a 500 veces por año | F15: =IF(E15="","",INDEX($U$12:$U$16,MATCH(E15,$R$12:$R$16,0))) -> 0.6 | G15: =IF(E15="","",INDEX($Q$12:$Q$16,MATCH(E15,$R$12:$R$16,0))) -> Media | H15: Afectación menor a 10 SMLMV | I15: =IF(OR(H15="",H15="N/A"),"",IFERROR(INDEX($X$12:$X$16,MATCH(H15,$Y$12:$Y$16,0)),"")) -> 0.2 | J15: =IF(OR(H15="",H15="N/A"),"",IFERROR(INDEX($W$12:$W$16,MATCH(H15,$Y$12:$Y$16,0)),"")) -> Leve | K15: El riesgo afecta la imagen de la entidad a nivel interno, de conocimiento general, de junta directiva y accionistas y/o proveedores. | L15: =IF(OR(K15="",K15="N/A"),"",IFERROR(INDEX($X$12:$X$16,MATCH(K15,$Z$12:$Z$16,0)),"")) -> 0.4 | M15: =IF(OR(K15="",K15="N/A"),"",IFERROR(INDEX($W$12:$W$16,MATCH(K15,$Z$12:$Z$16,0)),"")) -> Menor | N15: =IF(AND(I15="",L15=""),"",MAX(IF(I15="",0,I15),IF(L15="",0,L15))) -> 0.4 | O15: =IF(N15="","",IFERROR(INDEX($W$12:$W$16,MATCH(N15,$X$12:$X$16,0)),"")) -> Menor | Q15: Alta | R15: La actividad que conlleva el riesgo se ejecuta más de 500 veces al año y máximo 5.000 veces por año | S15: 501 | T15: 5000 | U15: 0.8 | W15: Mayor | X15: 0.8 | Y15: Mayor a 100 SMLMV y Menor a 500 SMLMV | Z15: El riesgo afecta la imagen de la entidad con efecto publicitario sostenido a nivel de sector administrativo, nivel departamental o municipal.
A16: R6 | B16: Académica | C16: Posibilidad de pérdida, alteración o indisponibilidad de información académica por fallas o accesos no autorizados en plataformas académicas, bases de datos estudiantiles o sistemas de registro debido a controles insuficientes de acceso, respaldo, perfiles de usuario y monitoreo tecnológico | D16: 12 | E16: =IF(D16="","",IF(D16<=$T$12,$R$12,IF(D16<=$T$13,$R$13,IF(D16<=$T$14,$R$14,IF(D16<=$T$15,$R$15,$R$16))))) -> La actividad que conlleva el riesgo se ejecuta de 3 a 24 veces por año | F16: =IF(E16="","",INDEX($U$12:$U$16,MATCH(E16,$R$12:$R$16,0))) -> 0.4 | G16: =IF(E16="","",INDEX($Q$12:$Q$16,MATCH(E16,$R$12:$R$16,0))) -> Baja | H16: Mayor a 10 SMLMV y Menor a 50 SMLMV | I16: =IF(OR(H16="",H16="N/A"),"",IFERROR(INDEX($X$12:$X$16,MATCH(H16,$Y$12:$Y$16,0)),"")) -> 0.4 | J16: =IF(OR(H16="",H16="N/A"),"",IFERROR(INDEX($W$12:$W$16,MATCH(H16,$Y$12:$Y$16,0)),"")) -> Menor | K16: El riesgo afecta la imagen de la entidad a nivel interno, de conocimiento general, de junta directiva y accionistas y/o proveedores. | L16: =IF(OR(K16="",K16="N/A"),"",IFERROR(INDEX($X$12:$X$16,MATCH(K16,$Z$12:$Z$16,0)),"")) -> 0.4 | M16: =IF(OR(K16="",K16="N/A"),"",IFERROR(INDEX($W$12:$W$16,MATCH(K16,$Z$12:$Z$16,0)),"")) -> Menor | N16: =IF(AND(I16="",L16=""),"",MAX(IF(I16="",0,I16),IF(L16="",0,L16))) -> 0.4 | O16: =IF(N16="","",IFERROR(INDEX($W$12:$W$16,MATCH(N16,$X$12:$X$16,0)),"")) -> Menor | Q16: Muy Alta | R16: La actividad que conlleva el riesgo se ejecuta más de 5.000 veces por año | S16: 5001 | U16: 1 | W16: Catastrófico | X16: 1 | Y16: Mayor a 500 SMLMV | Z16: El riesgo afecta la imagen de la entidad a nivel nacional, con efecto publicitario sostenido a nivel país.
A17: R7 | B17: Talento Humano | C17: Posibilidad de afectación administrativa y operativa por inconsistencias en vinculación, novedades, liquidaciones, seguridad social o información laboral debido a errores de registro, falta de revisión cruzada y aplicación incompleta de procedimientos de talento humano | D17: 12 | E17: =IF(D17="","",IF(D17<=$T$12,$R$12,IF(D17<=$T$13,$R$13,IF(D17<=$T$14,$R$14,IF(D17<=$T$15,$R$15,$R$16))))) -> La actividad que conlleva el riesgo se ejecuta de 3 a 24 veces por año | F17: =IF(E17="","",INDEX($U$12:$U$16,MATCH(E17,$R$12:$R$16,0))) -> 0.4 | G17: =IF(E17="","",INDEX($Q$12:$Q$16,MATCH(E17,$R$12:$R$16,0))) -> Baja | H17: Mayor a 10 SMLMV y Menor a 50 SMLMV | I17: =IF(OR(H17="",H17="N/A"),"",IFERROR(INDEX($X$12:$X$16,MATCH(H17,$Y$12:$Y$16,0)),"")) -> 0.4 | J17: =IF(OR(H17="",H17="N/A"),"",IFERROR(INDEX($W$12:$W$16,MATCH(H17,$Y$12:$Y$16,0)),"")) -> Menor | K17: El riesgo afecta la imagen de la entidad a nivel interno, de conocimiento general, de junta directiva y accionistas y/o proveedores. | L17: =IF(OR(K17="",K17="N/A"),"",IFERROR(INDEX($X$12:$X$16,MATCH(K17,$Z$12:$Z$16,0)),"")) -> 0.4 | M17: =IF(OR(K17="",K17="N/A"),"",IFERROR(INDEX($W$12:$W$16,MATCH(K17,$Z$12:$Z$16,0)),"")) -> Menor | N17: =IF(AND(I17="",L17=""),"",MAX(IF(I17="",0,I17),IF(L17="",0,L17))) -> 0.4 | O17: =IF(N17="","",IFERROR(INDEX($W$12:$W$16,MATCH(N17,$X$12:$X$16,0)),"")) -> Menor
A18: R8 | B18: Talento Humano | C18: Posibilidad de favorecimiento indebido en vinculación, contratación o permanencia de personal por manipulación de requisitos, evaluaciones, hojas de vida o decisiones de personal debido a controles insuficientes, baja trazabilidad y debilidades en la gestión de conflictos de interés | D18: 12 | E18: =IF(D18="","",IF(D18<=$T$12,$R$12,IF(D18<=$T$13,$R$13,IF(D18<=$T$14,$R$14,IF(D18<=$T$15,$R$15,$R$16))))) -> La actividad que conlleva el riesgo se ejecuta de 3 a 24 veces por año | F18: =IF(E18="","",INDEX($U$12:$U$16,MATCH(E18,$R$12:$R$16,0))) -> 0.4 | G18: =IF(E18="","",INDEX($Q$12:$Q$16,MATCH(E18,$R$12:$R$16,0))) -> Baja | H18: Afectación menor a 10 SMLMV | I18: =IF(OR(H18="",H18="N/A"),"",IFERROR(INDEX($X$12:$X$16,MATCH(H18,$Y$12:$Y$16,0)),"")) -> 0.2 | J18: =IF(OR(H18="",H18="N/A"),"",IFERROR(INDEX($W$12:$W$16,MATCH(H18,$Y$12:$Y$16,0)),"")) -> Leve | K18: El riesgo afecta la imagen de la entidad a nivel interno, de conocimiento general, de junta directiva y accionistas y/o proveedores. | L18: =IF(OR(K18="",K18="N/A"),"",IFERROR(INDEX($X$12:$X$16,MATCH(K18,$Z$12:$Z$16,0)),"")) -> 0.4 | M18: =IF(OR(K18="",K18="N/A"),"",IFERROR(INDEX($W$12:$W$16,MATCH(K18,$Z$12:$Z$16,0)),"")) -> Menor | N18: =IF(AND(I18="",L18=""),"",MAX(IF(I18="",0,I18),IF(L18="",0,L18))) -> 0.4 | O18: =IF(N18="","",IFERROR(INDEX($W$12:$W$16,MATCH(N18,$X$12:$X$16,0)),"")) -> Menor
A19: R9 | B19: Talento Humano | C19: Posibilidad de afectación de recursos públicos por pagos indebidos o mayores valores en nómina, prestaciones, seguridad social u honorarios debido a validaciones insuficientes de novedades, liquidaciones, soportes y autorizaciones de pago | D19: 12 | E19: =IF(D19="","",IF(D19<=$T$12,$R$12,IF(D19<=$T$13,$R$13,IF(D19<=$T$14,$R$14,IF(D19<=$T$15,$R$15,$R$16))))) -> La actividad que conlleva el riesgo se ejecuta de 3 a 24 veces por año | F19: =IF(E19="","",INDEX($U$12:$U$16,MATCH(E19,$R$12:$R$16,0))) -> 0.4 | G19: =IF(E19="","",INDEX($Q$12:$Q$16,MATCH(E19,$R$12:$R$16,0))) -> Baja | H19: Afectación menor a 10 SMLMV | I19: =IF(OR(H19="",H19="N/A"),"",IFERROR(INDEX($X$12:$X$16,MATCH(H19,$Y$12:$Y$16,0)),"")) -> 0.2 | J19: =IF(OR(H19="",H19="N/A"),"",IFERROR(INDEX($W$12:$W$16,MATCH(H19,$Y$12:$Y$16,0)),"")) -> Leve | K19: El riesgo afecta la imagen de la entidad a nivel interno, de conocimiento general, de junta directiva y accionistas y/o proveedores. | L19: =IF(OR(K19="",K19="N/A"),"",IFERROR(INDEX($X$12:$X$16,MATCH(K19,$Z$12:$Z$16,0)),"")) -> 0.4 | M19: =IF(OR(K19="",K19="N/A"),"",IFERROR(INDEX($W$12:$W$16,MATCH(K19,$Z$12:$Z$16,0)),"")) -> Menor | N19: =IF(AND(I19="",L19=""),"",MAX(IF(I19="",0,I19),IF(L19="",0,L19))) -> 0.4 | O19: =IF(N19="","",IFERROR(INDEX($W$12:$W$16,MATCH(N19,$X$12:$X$16,0)),"")) -> Menor | Y19: N/A | Z19: N/A
A20: R10 | B20: Talento Humano | C20: Posibilidad de pérdida de confidencialidad de datos personales y laborales por acceso, divulgación o custodia inadecuada de historias laborales, nómina y datos sensibles debido a controles insuficientes de acceso, archivo, permisos y tratamiento de información reservada | D20: 6 | E20: =IF(D20="","",IF(D20<=$T$12,$R$12,IF(D20<=$T$13,$R$13,IF(D20<=$T$14,$R$14,IF(D20<=$T$15,$R$15,$R$16))))) -> La actividad que conlleva el riesgo se ejecuta de 3 a 24 veces por año | F20: =IF(E20="","",INDEX($U$12:$U$16,MATCH(E20,$R$12:$R$16,0))) -> 0.4 | G20: =IF(E20="","",INDEX($Q$12:$Q$16,MATCH(E20,$R$12:$R$16,0))) -> Baja | H20: Mayor a 10 SMLMV y Menor a 50 SMLMV | I20: =IF(OR(H20="",H20="N/A"),"",IFERROR(INDEX($X$12:$X$16,MATCH(H20,$Y$12:$Y$16,0)),"")) -> 0.4 | J20: =IF(OR(H20="",H20="N/A"),"",IFERROR(INDEX($W$12:$W$16,MATCH(H20,$Y$12:$Y$16,0)),"")) -> Menor | K20: El riesgo afecta la imagen de la entidad con algunos usuarios de relevancia frente al logro de los objetivos. | L20: =IF(OR(K20="",K20="N/A"),"",IFERROR(INDEX($X$12:$X$16,MATCH(K20,$Z$12:$Z$16,0)),"")) -> 0.6 | M20: =IF(OR(K20="",K20="N/A"),"",IFERROR(INDEX($W$12:$W$16,MATCH(K20,$Z$12:$Z$16,0)),"")) -> Moderado | N20: =IF(AND(I20="",L20=""),"",MAX(IF(I20="",0,I20),IF(L20="",0,L20))) -> 0.6 | O20: =IF(N20="","",IFERROR(INDEX($W$12:$W$16,MATCH(N20,$X$12:$X$16,0)),"")) -> Moderado
A21: R11 | B21: Bienestar | C21: Posibilidad de afectación en la prestación de programas de bienestar or incumplimiento o ejecución parcial de las actividades programadas, a causa de debilidades en la planeación, seguimiento y disponibilidad de recursos. | D21: 4 | E21: =IF(D21="","",IF(D21<=$T$12,$R$12,IF(D21<=$T$13,$R$13,IF(D21<=$T$14,$R$14,IF(D21<=$T$15,$R$15,$R$16))))) -> La actividad que conlleva el riesgo se ejecuta de 3 a 24 veces por año | F21: =IF(E21="","",INDEX($U$12:$U$16,MATCH(E21,$R$12:$R$16,0))) -> 0.4 | G21: =IF(E21="","",INDEX($Q$12:$Q$16,MATCH(E21,$R$12:$R$16,0))) -> Baja | H21: Mayor a 10 SMLMV y Menor a 50 SMLMV | I21: =IF(OR(H21="",H21="N/A"),"",IFERROR(INDEX($X$12:$X$16,MATCH(H21,$Y$12:$Y$16,0)),"")) -> 0.4 | J21: =IF(OR(H21="",H21="N/A"),"",IFERROR(INDEX($W$12:$W$16,MATCH(H21,$Y$12:$Y$16,0)),"")) -> Menor | K21: El riesgo afecta la imagen de la entidad a nivel interno, de conocimiento general, de junta directiva y accionistas y/o proveedores. | L21: =IF(OR(K21="",K21="N/A"),"",IFERROR(INDEX($X$12:$X$16,MATCH(K21,$Z$12:$Z$16,0)),"")) -> 0.4 | M21: =IF(OR(K21="",K21="N/A"),"",IFERROR(INDEX($W$12:$W$16,MATCH(K21,$Z$12:$Z$16,0)),"")) -> Menor | N21: =IF(AND(I21="",L21=""),"",MAX(IF(I21="",0,I21),IF(L21="",0,L21))) -> 0.4 | O21: =IF(N21="","",IFERROR(INDEX($W$12:$W$16,MATCH(N21,$X$12:$X$16,0)),"")) -> Menor
